BEGIN:VCALENDAR
VERSION:2.0
PRODID:-//Shirdi Sai Samaj Baba Hindu Temples in Netherlands - ECPv6.15.17.1//NONSGML v1.0//EN
CALSCALE:GREGORIAN
METHOD:PUBLISH
X-ORIGINAL-URL:https://www.shirdisaisamaj.nl
X-WR-CALDESC:Events for Shirdi Sai Samaj Baba Hindu Temples in Netherlands
REFRESH-INTERVAL;VALUE=DURATION:PT1H
X-Robots-Tag:noindex
X-PUBLISHED-TTL:PT1H
BEGIN:VTIMEZONE
TZID:Europe/Amsterdam
BEGIN:DAYLIGHT
TZOFFSETFROM:+0100
TZOFFSETTO:+0200
TZNAME:CEST
DTSTART:20250330T010000
END:DAYLIGHT
BEGIN:STANDARD
TZOFFSETFROM:+0200
TZOFFSETTO:+0100
TZNAME:CET
DTSTART:20251026T010000
END:STANDARD
BEGIN:DAYLIGHT
TZOFFSETFROM:+0100
TZOFFSETTO:+0200
TZNAME:CEST
DTSTART:20260329T010000
END:DAYLIGHT
BEGIN:STANDARD
TZOFFSETFROM:+0200
TZOFFSETTO:+0100
TZNAME:CET
DTSTART:20261025T010000
END:STANDARD
BEGIN:DAYLIGHT
TZOFFSETFROM:+0100
TZOFFSETTO:+0200
TZNAME:CEST
DTSTART:20270328T010000
END:DAYLIGHT
BEGIN:STANDARD
TZOFFSETFROM:+0200
TZOFFSETTO:+0100
TZNAME:CET
DTSTART:20271031T010000
END:STANDARD
END:VTIMEZONE
BEGIN:VEVENT
DTSTART;TZID=Europe/Amsterdam:20260101T080000
DTEND;TZID=Europe/Amsterdam:20260101T220000
DTSTAMP:20260422T043835
CREATED:20251222T230058Z
LAST-MODIFIED:20251223T120710Z
UID:28406-1767254400-1767304800@www.shirdisaisamaj.nl
SUMMARY:New Year Celebration 01st January 2026
DESCRIPTION:New Year Celebration 2026\nJai Sai Ram 🙏 Dear Devotees\, On the auspicious Occasion of New Year 2026\, a grand event has been organized in our samaj on 01st January 2026. We request all devotees to register for the event via our website / App to mark your presence and let us know if you could volunteer on the events days.  \n\n		\n							\n						\n				\nEvent Registration			\n			\n					\n	 \n\n		\n							\n						\n				Upcoming Events			\n			\n					\n	\n	\n		\n			\n								Annadhana Seva @ Amsterdam\n			\n			\n				\n					– Days\n– Hours\n– Minutes\n– Seconds				\n				\n				\n							\n		\n	\n	\n		\n			\n								Annadhana Seva @ Amsterdam\n			\n			\n				\n					– Days\n– Hours\n– Minutes\n– Seconds				\n				\n				\n							\n		\n	\n	\n		\n			\n								Annadhana Seva @ Amsterdam\n			\n			\n				\n					– Days\n– Hours\n– Minutes\n– Seconds
URL:https://www.shirdisaisamaj.nl/event/new-year-celebration-01st-january-2026/
LOCATION:Amsterdam\, Dadelpalmstraat 8\, Amsterdam Zuidoost\, Noord-Holland\, 1104DD\, Netherlands
CATEGORIES:Events
END:VEVENT
BEGIN:VEVENT
DTSTART;TZID=Europe/Amsterdam:20260117T113000
DTEND;TZID=Europe/Amsterdam:20260117T203000
DTSTAMP:20260422T043835
CREATED:20260116T230059Z
LAST-MODIFIED:20260119T122129Z
UID:28437-1768649400-1768681800@www.shirdisaisamaj.nl
SUMMARY:Annadhana Seva @ Amsterdam
DESCRIPTION:Annadhana Seva 17th January\, 2026\n \nJai Sai Ram 🙏 \nShirdi Sai Stichting Netherlands (SSSNL)\, a non-profit organization involved in various social projects and volunteering activities in the Netherlands\, initiated “Cooking for Others” (Annadhana Seva) an activity addressing a social problem. At SSSNL Annadhanam seva\, the sacred offering of food is served for free to people. This service is done in community centers (buurthuis) as the service is to involve everyone. Currently\, the seva is organized in Amsterdam Zuidoost\, Amstelveen\, Denhaag and Eindhoven. A three-course meal is served in a relaxed and quite environments\, that starts with serving of Chai/ Tea and snacks / biscuits. \n“Annadanam Samam Danam Trilokeshu Na Vidhathe”\nThese are the verses from the Vedas\, meaning Annadanam is supreme and incomparable to any charity. Food is the basic requirement for all humans. Thus according to Vedas\, the one who does annadanam\, attains heaven (Punya Loka) in this Universe (Brahmanda) itself. In this whole universe\, the creation and its progression depends on food. Hence giving food to the devotees is more than attaining heaven. \n“Gaja turaga Sahasram Gokulam koti danam\nKanaka Rajatha patram Methini sagarantham\nUpaya kula vishuttam Koti kanya pradanam\nNahi nahi bahu danam Annadanam samanam”\n– Bhagavath Gita\nOne aspect of taking to the spiritual path is to make every aspect of life conscious\, which is why offering food in a certain way is given so much importance at Shirdi Sai Samaj Netherlands. \n		\n							\n						\n				\nEvent Registration			\n			\n					\n	\n\n\n	\n		\n			\n								Annadhana Seva @ Amsterdam\n			\n			\n				\n					– Days\n– Hours\n– Minutes\n– Seconds				\n				\n				\n							\n		\n	\n	\n		\n			\n								Annadhana Seva @ Amsterdam\n			\n			\n				\n					– Days\n– Hours\n– Minutes\n– Seconds				\n				\n				\n							\n		\n	\n	\n		\n			\n								Annadhana Seva @ Amsterdam\n			\n			\n				\n					– Days\n– Hours\n– Minutes\n– Seconds
URL:https://www.shirdisaisamaj.nl/event/annadhana-seva-amsterdam-2/
LOCATION:Amsterdam\, Dadelpalmstraat 8\, Amsterdam Zuidoost\, Noord-Holland\, 1104DD\, Netherlands
CATEGORIES:Events
END:VEVENT
BEGIN:VEVENT
DTSTART;TZID=Europe/Amsterdam:20260131T113000
DTEND;TZID=Europe/Amsterdam:20260131T203000
DTSTAMP:20260422T043835
CREATED:20260119T121942Z
LAST-MODIFIED:20260119T122041Z
UID:28439-1769859000-1769891400@www.shirdisaisamaj.nl
SUMMARY:Annadhana Seva @ Amsterdam
DESCRIPTION:Annadhana Seva 31st January\, 2026\n \nJai Sai Ram 🙏 \nShirdi Sai Stichting Netherlands (SSSNL)\, a non-profit organization involved in various social projects and volunteering activities in the Netherlands\, initiated “Cooking for Others” (Annadhana Seva) an activity addressing a social problem. At SSSNL Annadhanam seva\, the sacred offering of food is served for free to people. This service is done in community centers (buurthuis) as the service is to involve everyone. Currently\, the seva is organized in Amsterdam Zuidoost\, Amstelveen\, Denhaag and Eindhoven. A three-course meal is served in a relaxed and quite environments\, that starts with serving of Chai/ Tea and snacks / biscuits. \n“Annadanam Samam Danam Trilokeshu Na Vidhathe”\nThese are the verses from the Vedas\, meaning Annadanam is supreme and incomparable to any charity. Food is the basic requirement for all humans. Thus according to Vedas\, the one who does annadanam\, attains heaven (Punya Loka) in this Universe (Brahmanda) itself. In this whole universe\, the creation and its progression depends on food. Hence giving food to the devotees is more than attaining heaven. \n“Gaja turaga Sahasram Gokulam koti danam\nKanaka Rajatha patram Methini sagarantham\nUpaya kula vishuttam Koti kanya pradanam\nNahi nahi bahu danam Annadanam samanam”\n– Bhagavath Gita\nOne aspect of taking to the spiritual path is to make every aspect of life conscious\, which is why offering food in a certain way is given so much importance at Shirdi Sai Samaj Netherlands. \n		\n							\n						\n				\nEvent Registration			\n			\n					\n	\n\n\n	\n		\n			\n								Annadhana Seva @ Amsterdam\n			\n			\n				\n					– Days\n– Hours\n– Minutes\n– Seconds				\n				\n				\n							\n		\n	\n	\n		\n			\n								Annadhana Seva @ Amsterdam\n			\n			\n				\n					– Days\n– Hours\n– Minutes\n– Seconds				\n				\n				\n							\n		\n	\n	\n		\n			\n								Annadhana Seva @ Amsterdam\n			\n			\n				\n					– Days\n– Hours\n– Minutes\n– Seconds
URL:https://www.shirdisaisamaj.nl/event/annadhana-seva-amsterdam/
LOCATION:Amsterdam\, Dadelpalmstraat 8\, Amsterdam Zuidoost\, Noord-Holland\, 1104DD\, Netherlands
CATEGORIES:Events
END:VEVENT
END:VCALENDAR