BEGIN:VCALENDAR
VERSION:2.0
PRODID:-//Shirdi Sai Samaj Baba Hindu Temples in Netherlands - ECPv6.15.17.1//NONSGML v1.0//EN
CALSCALE:GREGORIAN
METHOD:PUBLISH
X-WR-CALNAME:Shirdi Sai Samaj Baba Hindu Temples in Netherlands
X-ORIGINAL-URL:https://www.shirdisaisamaj.nl
X-WR-CALDESC:Events for Shirdi Sai Samaj Baba Hindu Temples in Netherlands
REFRESH-INTERVAL;VALUE=DURATION:PT1H
X-Robots-Tag:noindex
X-PUBLISHED-TTL:PT1H
BEGIN:VTIMEZONE
TZID:Europe/Amsterdam
BEGIN:DAYLIGHT
TZOFFSETFROM:+0100
TZOFFSETTO:+0200
TZNAME:CEST
DTSTART:20240331T010000
END:DAYLIGHT
BEGIN:STANDARD
TZOFFSETFROM:+0200
TZOFFSETTO:+0100
TZNAME:CET
DTSTART:20241027T010000
END:STANDARD
BEGIN:DAYLIGHT
TZOFFSETFROM:+0100
TZOFFSETTO:+0200
TZNAME:CEST
DTSTART:20250330T010000
END:DAYLIGHT
BEGIN:STANDARD
TZOFFSETFROM:+0200
TZOFFSETTO:+0100
TZNAME:CET
DTSTART:20251026T010000
END:STANDARD
BEGIN:DAYLIGHT
TZOFFSETFROM:+0100
TZOFFSETTO:+0200
TZNAME:CEST
DTSTART:20260329T010000
END:DAYLIGHT
BEGIN:STANDARD
TZOFFSETFROM:+0200
TZOFFSETTO:+0100
TZNAME:CET
DTSTART:20261025T010000
END:STANDARD
END:VTIMEZONE
BEGIN:VEVENT
DTSTART;TZID=Europe/Amsterdam:20251101T113000
DTEND;TZID=Europe/Amsterdam:20251101T203000
DTSTAMP:20260422T003047
CREATED:20250117T085720Z
LAST-MODIFIED:20251114T163132Z
UID:28118-1761996600-1762029000@www.shirdisaisamaj.nl
SUMMARY:Annadhana Seva @ Amsterdam
DESCRIPTION:Annadhana Seva 01st November\, 2025\n \nJai Sai Ram 🙏 \nShirdi Sai Stichting Netherlands (SSSNL)\, a non-profit organization involved in various social projects and volunteering activities in the Netherlands\, initiated “Cooking for Others” (Annadhana Seva) an activity addressing a social problem. At SSSNL Annadhanam seva\, the sacred offering of food is served for free to people. This service is done in community centers (buurthuis) as the service is to involve everyone. Currently\, the seva is organized in Amsterdam Zuidoost\, Amstelveen\, Denhaag and Eindhoven. A three-course meal is served in a relaxed and quite environments\, that starts with serving of Chai/ Tea and snacks / biscuits. \n“Annadanam Samam Danam Trilokeshu Na Vidhathe”\nThese are the verses from the Vedas\, meaning Annadanam is supreme and incomparable to any charity. Food is the basic requirement for all humans. Thus according to Vedas\, the one who does annadanam\, attains heaven (Punya Loka) in this Universe (Brahmanda) itself. In this whole universe\, the creation and its progression depends on food. Hence giving food to the devotees is more than attaining heaven. \n“Gaja turaga Sahasram Gokulam koti danam\nKanaka Rajatha patram Methini sagarantham\nUpaya kula vishuttam Koti kanya pradanam\nNahi nahi bahu danam Annadanam samanam”\n– Bhagavath Gita\nOne aspect of taking to the spiritual path is to make every aspect of life conscious\, which is why offering food in a certain way is given so much importance at Shirdi Sai Samaj Netherlands. \n		\n							\n						\n				\nEvent Registration			\n			\n					\n	\n\n\n	\n		\n			\n								Annadhana Seva @ Amsterdam\n			\n			\n				\n					– Days\n– Hours\n– Minutes\n– Seconds				\n				\n				\n							\n		\n	\n	\n		\n			\n								Annadhana Seva @ Amsterdam\n			\n			\n				\n					– Days\n– Hours\n– Minutes\n– Seconds				\n				\n				\n							\n		\n	\n	\n		\n			\n								Annadhana Seva @ Amsterdam\n			\n			\n				\n					– Days\n– Hours\n– Minutes\n– Seconds
URL:https://www.shirdisaisamaj.nl/event/annadhana-seva-on-1st-november-2025/
LOCATION:Amsterdam\, Dadelpalmstraat 8\, Amsterdam Zuidoost\, Noord-Holland\, 1104DD\, Netherlands
CATEGORIES:Events
END:VEVENT
BEGIN:VEVENT
DTSTART;TZID=Europe/Amsterdam:20251115T113000
DTEND;TZID=Europe/Amsterdam:20251115T203000
DTSTAMP:20260422T003047
CREATED:20250117T085827Z
LAST-MODIFIED:20250219T081051Z
UID:28121-1763206200-1763238600@www.shirdisaisamaj.nl
SUMMARY:Annadhana Seva @ Amsterdam
DESCRIPTION:Annadhana Seva 15th November\, 2025\n \nJai Sai Ram 🙏 \nShirdi Sai Stichting Netherlands (SSSNL)\, a non-profit organization involved in various social projects and volunteering activities in the Netherlands\, initiated “Cooking for Others” (Annadhana Seva) an activity addressing a social problem. At SSSNL Annadhanam seva\, the sacred offering of food is served for free to people. This service is done in community centers (buurthuis) as the service is to involve everyone. Currently\, the seva is organized in Amsterdam Zuidoost\, Amstelveen\, Denhaag and Eindhoven. A three-course meal is served in a relaxed and quite environments\, that starts with serving of Chai/ Tea and snacks / biscuits. \n“Annadanam Samam Danam Trilokeshu Na Vidhathe”\nThese are the verses from the Vedas\, meaning Annadanam is supreme and incomparable to any charity. Food is the basic requirement for all humans. Thus according to Vedas\, the one who does annadanam\, attains heaven (Punya Loka) in this Universe (Brahmanda) itself. In this whole universe\, the creation and its progression depends on food. Hence giving food to the devotees is more than attaining heaven. \n“Gaja turaga Sahasram Gokulam koti danam\nKanaka Rajatha patram Methini sagarantham\nUpaya kula vishuttam Koti kanya pradanam\nNahi nahi bahu danam Annadanam samanam”\n– Bhagavath Gita\nOne aspect of taking to the spiritual path is to make every aspect of life conscious\, which is why offering food in a certain way is given so much importance at Shirdi Sai Samaj Netherlands. \n		\n							\n						\n				\nEvent Registration			\n			\n					\n	\n\n\n	\n		\n			\n								Annadhana Seva @ Amsterdam\n			\n			\n				\n					– Days\n– Hours\n– Minutes\n– Seconds				\n				\n				\n							\n		\n	\n	\n		\n			\n								Annadhana Seva @ Amsterdam\n			\n			\n				\n					– Days\n– Hours\n– Minutes\n– Seconds				\n				\n				\n							\n		\n	\n	\n		\n			\n								Annadhana Seva @ Amsterdam\n			\n			\n				\n					– Days\n– Hours\n– Minutes\n– Seconds
URL:https://www.shirdisaisamaj.nl/event/annadhana-seva-on-15th-november-2025/
LOCATION:Amsterdam\, Dadelpalmstraat 8\, Amsterdam Zuidoost\, Noord-Holland\, 1104DD\, Netherlands
CATEGORIES:Events
END:VEVENT
BEGIN:VEVENT
DTSTART;TZID=Europe/Amsterdam:20251129T113000
DTEND;TZID=Europe/Amsterdam:20251129T203000
DTSTAMP:20260422T003047
CREATED:20250117T085917Z
LAST-MODIFIED:20250219T081042Z
UID:28124-1764415800-1764448200@www.shirdisaisamaj.nl
SUMMARY:Annadhana Seva @ Amsterdam
DESCRIPTION:Annadhana Seva 15th November\, 2025\n \nJai Sai Ram 🙏 \nShirdi Sai Stichting Netherlands (SSSNL)\, a non-profit organization involved in various social projects and volunteering activities in the Netherlands\, initiated “Cooking for Others” (Annadhana Seva) an activity addressing a social problem. At SSSNL Annadhanam seva\, the sacred offering of food is served for free to people. This service is done in community centers (buurthuis) as the service is to involve everyone. Currently\, the seva is organized in Amsterdam Zuidoost\, Amstelveen\, Denhaag and Eindhoven. A three-course meal is served in a relaxed and quite environments\, that starts with serving of Chai/ Tea and snacks / biscuits. \n“Annadanam Samam Danam Trilokeshu Na Vidhathe”\nThese are the verses from the Vedas\, meaning Annadanam is supreme and incomparable to any charity. Food is the basic requirement for all humans. Thus according to Vedas\, the one who does annadanam\, attains heaven (Punya Loka) in this Universe (Brahmanda) itself. In this whole universe\, the creation and its progression depends on food. Hence giving food to the devotees is more than attaining heaven. \n“Gaja turaga Sahasram Gokulam koti danam\nKanaka Rajatha patram Methini sagarantham\nUpaya kula vishuttam Koti kanya pradanam\nNahi nahi bahu danam Annadanam samanam”\n– Bhagavath Gita\nOne aspect of taking to the spiritual path is to make every aspect of life conscious\, which is why offering food in a certain way is given so much importance at Shirdi Sai Samaj Netherlands. \n		\n							\n						\n				\nEvent Registration			\n			\n					\n	\n\n\n	\n		\n			\n								Annadhana Seva @ Amsterdam\n			\n			\n				\n					– Days\n– Hours\n– Minutes\n– Seconds				\n				\n				\n							\n		\n	\n	\n		\n			\n								Annadhana Seva @ Amsterdam\n			\n			\n				\n					– Days\n– Hours\n– Minutes\n– Seconds				\n				\n				\n							\n		\n	\n	\n		\n			\n								Annadhana Seva @ Amsterdam\n			\n			\n				\n					– Days\n– Hours\n– Minutes\n– Seconds
URL:https://www.shirdisaisamaj.nl/event/annadhana-seva-on-29th-november-2025/
LOCATION:Amsterdam\, Dadelpalmstraat 8\, Amsterdam Zuidoost\, Noord-Holland\, 1104DD\, Netherlands
CATEGORIES:Events
END:VEVENT
END:VCALENDAR