BEGIN:VCALENDAR
VERSION:2.0
PRODID:-//Shirdi Sai Samaj Baba Hindu Temples in Netherlands - ECPv6.15.17.1//NONSGML v1.0//EN
CALSCALE:GREGORIAN
METHOD:PUBLISH
X-ORIGINAL-URL:https://www.shirdisaisamaj.nl
X-WR-CALDESC:Events for Shirdi Sai Samaj Baba Hindu Temples in Netherlands
REFRESH-INTERVAL;VALUE=DURATION:PT1H
X-Robots-Tag:noindex
X-PUBLISHED-TTL:PT1H
BEGIN:VTIMEZONE
TZID:Europe/Amsterdam
BEGIN:DAYLIGHT
TZOFFSETFROM:+0100
TZOFFSETTO:+0200
TZNAME:CEST
DTSTART:20240331T010000
END:DAYLIGHT
BEGIN:STANDARD
TZOFFSETFROM:+0200
TZOFFSETTO:+0100
TZNAME:CET
DTSTART:20241027T010000
END:STANDARD
BEGIN:DAYLIGHT
TZOFFSETFROM:+0100
TZOFFSETTO:+0200
TZNAME:CEST
DTSTART:20250330T010000
END:DAYLIGHT
BEGIN:STANDARD
TZOFFSETFROM:+0200
TZOFFSETTO:+0100
TZNAME:CET
DTSTART:20251026T010000
END:STANDARD
BEGIN:DAYLIGHT
TZOFFSETFROM:+0100
TZOFFSETTO:+0200
TZNAME:CEST
DTSTART:20260329T010000
END:DAYLIGHT
BEGIN:STANDARD
TZOFFSETFROM:+0200
TZOFFSETTO:+0100
TZNAME:CET
DTSTART:20261025T010000
END:STANDARD
END:VTIMEZONE
BEGIN:VEVENT
DTSTART;TZID=Europe/Amsterdam:20250705T113000
DTEND;TZID=Europe/Amsterdam:20250705T203000
DTSTAMP:20260421T170447
CREATED:20250117T085312Z
LAST-MODIFIED:20250319T170407Z
UID:28109-1751715000-1751747400@www.shirdisaisamaj.nl
SUMMARY:Annadhana Seva @ Amsterdam
DESCRIPTION:Annadhana Seva 05th July\, 2025\n \nJai Sai Ram 🙏 \nShirdi Sai Stichting Netherlands (SSSNL)\, a non-profit organization involved in various social projects and volunteering activities in the Netherlands\, initiated “Cooking for Others” (Annadhana Seva) an activity addressing a social problem. At SSSNL Annadhanam seva\, the sacred offering of food is served for free to people. This service is done in community centers (buurthuis) as the service is to involve everyone. Currently\, the seva is organized in Amsterdam Zuidoost\, Amstelveen\, Denhaag and Eindhoven. A three-course meal is served in a relaxed and quite environments\, that starts with serving of Chai/ Tea and snacks / biscuits. \n“Annadanam Samam Danam Trilokeshu Na Vidhathe”\nThese are the verses from the Vedas\, meaning Annadanam is supreme and incomparable to any charity. Food is the basic requirement for all humans. Thus according to Vedas\, the one who does annadanam\, attains heaven (Punya Loka) in this Universe (Brahmanda) itself. In this whole universe\, the creation and its progression depends on food. Hence giving food to the devotees is more than attaining heaven. \n“Gaja turaga Sahasram Gokulam koti danam\nKanaka Rajatha patram Methini sagarantham\nUpaya kula vishuttam Koti kanya pradanam\nNahi nahi bahu danam Annadanam samanam”\n– Bhagavath Gita\nOne aspect of taking to the spiritual path is to make every aspect of life conscious\, which is why offering food in a certain way is given so much importance at Shirdi Sai Samaj Netherlands. \n		\n							\n						\n				\nEvent Registration			\n			\n					\n	\n\n\n	\n		\n			\n								Annadhana Seva @ Amsterdam\n			\n			\n				\n					– Days\n– Hours\n– Minutes\n– Seconds				\n				\n				\n							\n		\n	\n	\n		\n			\n								Annadhana Seva @ Amsterdam\n			\n			\n				\n					– Days\n– Hours\n– Minutes\n– Seconds				\n				\n				\n							\n		\n	\n	\n		\n			\n								Annadhana Seva @ Amsterdam\n			\n			\n				\n					– Days\n– Hours\n– Minutes\n– Seconds
URL:https://www.shirdisaisamaj.nl/event/annadhana-seva-on-5th-july-2025/
LOCATION:Amsterdam\, Dadelpalmstraat 8\, Amsterdam Zuidoost\, Noord-Holland\, 1104DD\, Netherlands
CATEGORIES:Events
END:VEVENT
BEGIN:VEVENT
DTSTART;TZID=Europe/Amsterdam:20250710T080000
DTEND;TZID=Europe/Amsterdam:20250710T200000
DTSTAMP:20260421T170447
CREATED:20250617T145647Z
LAST-MODIFIED:20250924T112724Z
UID:28237-1752134400-1752177600@www.shirdisaisamaj.nl
SUMMARY:Guru Purnima - 10 July 2025
DESCRIPTION:Guru Purnima 10th July 2025\nJai Sai Ram 🙏 \nDear Devotees\, On this auspicious day of Guru Purnima (Purnima means full-moon Day in the month of (Ashadha) July-August) let’s come together to honour and felicitate our guru and seek his blessings. \n \nOn 10th (Thursday) of July 2025\, we have made arrangements for Guru Purnima 2025 celebrations in our Samaj. We request all devotees to register for the event via our website and if you would like you can also volunteer on the event days. \nThe Program schedule is as follows: \n\n\n\n\nGuru Purnima 2025\nUtsav schedule on 10th July (Thursday) \n08:00 hrs : Kakad aarti\n12:00 hrs : Madhyan Aarti\n18:00 hrs : Dhoop Aarti\n20:00 hrs : Shej aarti\n\n\n\n		\n							\n						\n				\nEvent Registration			\n			\n					\n	\n\n\n\n	\n		\n			\n								Annadhana Seva @ Amsterdam\n			\n			\n				\n					– Days\n– Hours\n– Minutes\n– Seconds				\n				\n				\n							\n		\n	\n	\n		\n			\n								Annadhana Seva @ Amsterdam\n			\n			\n				\n					– Days\n– Hours\n– Minutes\n– Seconds				\n				\n				\n							\n		\n	\n	\n		\n			\n								Annadhana Seva @ Amsterdam\n			\n			\n				\n					– Days\n– Hours\n– Minutes\n– Seconds
URL:https://www.shirdisaisamaj.nl/event/guru-purnima-10-july-2025/
LOCATION:Amsterdam\, Dadelpalmstraat 8\, Amsterdam Zuidoost\, Noord-Holland\, 1104DD\, Netherlands
CATEGORIES:Guru Purnima
END:VEVENT
BEGIN:VEVENT
DTSTART;TZID=Europe/Amsterdam:20250712T080000
DTEND;TZID=Europe/Amsterdam:20250712T200000
DTSTAMP:20260421T170447
CREATED:20250617T151750Z
LAST-MODIFIED:20250618T112920Z
UID:28245-1752307200-1752350400@www.shirdisaisamaj.nl
SUMMARY:Guru Purnima - 12 July 2025
DESCRIPTION:Guru Purnima 12th July 2025\nJai Sai Ram 🙏 \nDear Devotees\, On this auspicious day of Guru Purnima (Purnima means full-moon Day in the month of (Ashadha) July-August) let’s come together to honour and felicitate our guru and seek his blessings. \n \nOn 12th (Saturday) of July 2025\, we have made arrangements for Guru Purnima 2025 celebrations in our Samaj. We request all devotees to register for the event via our website and if you would like you can also volunteer on the event days. \nThe Program schedule is as follows: \n\n\n\n\nGuru Purnima 2025\nUtsav schedule on 12th July (Saturday) \n08:00 hrs : Kakad Aarti\n09:30 hrs : Abhishekam & Alankaram\n12:00 hrs : Madhyan Aarti\n14:00 hrs : Sai Satcharithra Recital\n14:30 hrs : Guruvashtakam & Sai Prarthana Ashtakam\n15:00 hrs : Bhajans\n16:00 hrs : Palkhi Pradakshina\n18:00 hrs : Dhoop Aarti\n19:00 hrs : Vishnu Sahasranaam & Hanuman Chalisa Recital\n20:00 hrs : Shej aarti \n\n\n\n\n		\n							\n						\n				\nEvent Registration			\n			\n					\n	\n\n\n		\n							\n						\n				Upcoming Events			\n			\n					\n		\n		\n			\n								Annadhana Seva @ Amsterdam\n			\n			\n				\n					– Days\n– Hours\n– Minutes\n– Seconds				\n				\n				\n							\n		\n	\n	\n		\n			\n								Annadhana Seva @ Amsterdam\n			\n			\n				\n					– Days\n– Hours\n– Minutes\n– Seconds				\n				\n				\n							\n		\n	\n	\n		\n			\n								Annadhana Seva @ Amsterdam\n			\n			\n				\n					– Days\n– Hours\n– Minutes\n– Seconds
URL:https://www.shirdisaisamaj.nl/event/guru-purnima-12-july-2025/
LOCATION:Amsterdam\, Dadelpalmstraat 8\, Amsterdam Zuidoost\, Noord-Holland\, 1104DD\, Netherlands
CATEGORIES:Guru Purnima
END:VEVENT
END:VCALENDAR