BEGIN:VCALENDAR
VERSION:2.0
PRODID:-//Shirdi Sai Samaj Baba Hindu Temples in Netherlands - ECPv6.15.17.1//NONSGML v1.0//EN
CALSCALE:GREGORIAN
METHOD:PUBLISH
X-WR-CALNAME:Shirdi Sai Samaj Baba Hindu Temples in Netherlands
X-ORIGINAL-URL:https://www.shirdisaisamaj.nl
X-WR-CALDESC:Events for Shirdi Sai Samaj Baba Hindu Temples in Netherlands
REFRESH-INTERVAL;VALUE=DURATION:PT1H
X-Robots-Tag:noindex
X-PUBLISHED-TTL:PT1H
BEGIN:VTIMEZONE
TZID:Europe/Amsterdam
BEGIN:DAYLIGHT
TZOFFSETFROM:+0100
TZOFFSETTO:+0200
TZNAME:CEST
DTSTART:20210328T010000
END:DAYLIGHT
BEGIN:STANDARD
TZOFFSETFROM:+0200
TZOFFSETTO:+0100
TZNAME:CET
DTSTART:20211031T010000
END:STANDARD
BEGIN:DAYLIGHT
TZOFFSETFROM:+0100
TZOFFSETTO:+0200
TZNAME:CEST
DTSTART:20220327T010000
END:DAYLIGHT
BEGIN:STANDARD
TZOFFSETFROM:+0200
TZOFFSETTO:+0100
TZNAME:CET
DTSTART:20221030T010000
END:STANDARD
BEGIN:DAYLIGHT
TZOFFSETFROM:+0100
TZOFFSETTO:+0200
TZNAME:CEST
DTSTART:20230326T010000
END:DAYLIGHT
BEGIN:STANDARD
TZOFFSETFROM:+0200
TZOFFSETTO:+0100
TZNAME:CET
DTSTART:20231029T010000
END:STANDARD
END:VTIMEZONE
BEGIN:VEVENT
DTSTART;TZID=Europe/Amsterdam:20220702T080000
DTEND;TZID=Europe/Amsterdam:20220702T170000
DTSTAMP:20260426T042333
CREATED:20220701T093734Z
LAST-MODIFIED:20220930T110322Z
UID:26474-1656748800-1656781200@www.shirdisaisamaj.nl
SUMMARY:Annadhana Seva on 2nd July\, 2022
DESCRIPTION:Annadhana Seva 2nd July\, 2022\n\n\nJai Sai Ram\,\n\nShirdi Sai Stichting Netherlands (SSSNL)\, a non-profit organization involved in various social projects and volunteering activities in Netherlands\, initiated “Cooking for Others” (Annadhana Seva) an activity addressing a social problem. At SSSNL Annadhanam seva \, the sacred offering of food is served for free to people. This service is done in community centers (buurthuis) as the service is to involve everyone. Currently\, the seva is organised in Amsterdam Zuidoost\, Amstelveen\, Denhaag and Eindhoven. A three course meal is served in a relaxed and quite environments\, that starts with serving of Chai/ Tea and snacks / biscuits.\n“Annadanam Samam Danam Trilokeshu Na Vidhathe”\nThese are the verses from the Vedas\, meaning Annadanam is supreme and incomparable to any charity. Food is the basic requirement for all humans. Thus according to Vedas\, the one who does annadanam\, attains heaven (Punya Loka) in this Universe (Brahmanda) itself. In this whole universe\, the creation and its progression depends on food. Hence giving food to the devotees is more than attaining heaven.\n“Gaja turaga Sahasram Gokulam koti danam\nKanaka Rajatha patram Methini sagarantham\nUpaya kula vishuttam Koti kanya pradanam\nNahi nahi bahu danam Annadanam samanam”\n– Bhagavath Gita\nOne aspect of taking to the spiritual path is to make every aspect of life conscious\, which is why offering food in a certain way is given so much importance at Shirdi Sai Samaj Netherlands.
URL:https://www.shirdisaisamaj.nl/event/annadhana-seva-on-2nd-july-2022/
LOCATION:Amsterdam\, Dadelpalmstraat 8\, Amsterdam Zuidoost\, Noord-Holland\, 1104DD\, Netherlands
CATEGORIES:Events
END:VEVENT
BEGIN:VEVENT
DTSTART;VALUE=DATE:20220713
DTEND;VALUE=DATE:20220714
DTSTAMP:20260426T042333
CREATED:20220615T094924Z
LAST-MODIFIED:20220930T110220Z
UID:26454-1657670400-1657756799@www.shirdisaisamaj.nl
SUMMARY:Guru Pournima - 13th July\, 2022
DESCRIPTION:Guru Pournima 13 & 16 July 2022\n\n\nJai Sai Ram\,\n\nDear Devotees\, On this auspicious day of Guru Pournima ( Pournima means full-moon Day in the month of (Ashadha) July-August) let’s come together to honour and felicitate our guru and seek his blessings.\n\nOn 13th (Wednesday) & 16th (Saturday) of July 2022\, we have made arrangements for Guru Pournima 2022 celebrations in our samaj. We request all devotees to register for the event via our website.\n\nOn the auspicious Occasion of Guru Pournima\, an event has been organized in our samaj on Wednesday 13th July & Saturday 16th July 2022. Program schedule will be update shortly.\n\nThe Program schedule is as follows  please register on the website\, if you could volunteer on the events days.\nGuru Pournima 2022\n13th July 2022 (Wednesday)\n\n08:00 hrs : Morning Aarti (Kakad Aarti)\n12:00 hrs : Noon Aarti (Madhyan Aarti)\n18:00 hrs : Evening Aarti (Evening Aarti)\n20:00 hrs : Night Aarti(Shej Aarti)\n\nFacebook:\n\nPlease mark your presence (if you could join the event) with one of the following options\n\nhttps://www.facebook.com/events/383996235543344/\n\nThe Program schedule is as follows  please register on the website\, if you could volunteer on the events days.\n\n\n\n\n		\n							\n						\n				\n\nEvent Registration\n\n			\n			\n					\n	\n\n[ninja_form id=18]\n\n		\n							\n						\n				Upcoming Events			\n			\n					\n		\n		\n			\n								Annadhana Seva @ Amsterdam\n			\n			\n				\n					– Days\n– Hours\n– Minutes\n– Seconds				\n				\n				\n							\n		\n	\n	\n		\n			\n								Annadhana Seva @ Amsterdam\n			\n			\n				\n					– Days\n– Hours\n– Minutes\n– Seconds				\n				\n				\n							\n		\n	\n	\n		\n			\n								Annadhana Seva @ Amsterdam\n			\n			\n				\n					– Days\n– Hours\n– Minutes\n– Seconds
URL:https://www.shirdisaisamaj.nl/event/guru-poornima-on-13th-july-2022/
LOCATION:Amsterdam\, Dadelpalmstraat 8\, Amsterdam Zuidoost\, Noord-Holland\, 1104DD\, Netherlands
CATEGORIES:Events
END:VEVENT
BEGIN:VEVENT
DTSTART;VALUE=DATE:20220716
DTEND;VALUE=DATE:20220717
DTSTAMP:20260426T042333
CREATED:20220712T120012Z
LAST-MODIFIED:20220830T122044Z
UID:26134-1657929600-1658015999@www.shirdisaisamaj.nl
SUMMARY:Guru Pournima - 16 July 2022
DESCRIPTION:Guru Pournima 13 & 16 July 2022\n \nJai Sai Ram\, \nDear Devotees\, On this auspicious day of Guru Pournima ( Pournima means full-moon Day in the month of (Ashadha) July-August) let’s come together to honour and felicitate our guru and seek his blessings. \nOn 13th (Wednesday) & 16th (Saturday) of July 2022\, we have made arrangements for Guru Pournima 2022 celebrations in our samaj. We request all devotees to register for the event via our website. \nOn the auspicious Occasion of Guru Pournima\, an event has been organized in our samaj on Wednesday 13th July & Saturday 16th July 2022. Program schedule will be update shortly. Please mark your presence (if you could join the event) with one of the following options \n\nFacebook: \nGuRuPoornima 2022 \n\n\nThe Program schedule is as follows  please register on the website\, if you could volunteer on the events days. \n\n\nGuru Pournima 2022\n16th July 2022 (Saturday) \n08:00 hrs : Morning Aarti (Kakad Aarti)\n10:30 hrs : Abhishekam and Alankaram to Sai Baba (Everyone is welcome to perform and participate in Alankaram)\n12:00 hrs : Noon Aarti (Madhyan Aarti)\n13:30 hrs : Lunch as Prasadam (Devotees can also bring prasadam for Baba)\n15:00 hrs : Bhajan\n17:00 hrs : Palakhi Pradakshina\n18:00 hrs : Evening Aarti (Evening Aarti)\n18:30 hrs : vishnu sahasranamam\, Hanuman Chalisa\n20:00 hrs : Night Aarti(Shej Aarti) \n\n\n\n\n \n		\n							\n						\n				\nEvent Registration\n			\n			\n					\n	 \n \n[ninja_form id=18] \n \n		\n							\n						\n				Upcoming Events			\n			\n					\n	 \n	\n		\n			\n								Annadhana Seva @ Amsterdam\n			\n			\n				\n					– Days\n– Hours\n– Minutes\n– Seconds				\n				\n				\n							\n		\n	\n	\n		\n			\n								Annadhana Seva @ Amsterdam\n			\n			\n				\n					– Days\n– Hours\n– Minutes\n– Seconds				\n				\n				\n							\n		\n	\n	\n		\n			\n								Annadhana Seva @ Amsterdam\n			\n			\n				\n					– Days\n– Hours\n– Minutes\n– Seconds
URL:https://www.shirdisaisamaj.nl/event/gurupournima-16-july-2022/
LOCATION:Amsterdam\, Dadelpalmstraat 8\, Amsterdam Zuidoost\, Noord-Holland\, 1104DD\, Netherlands
CATEGORIES:Events
END:VEVENT
END:VCALENDAR